BEGIN:VCALENDAR
VERSION:2.0
PRODID:-//Coordinated Children’s Service Initiative - ECPv6.15.17//NONSGML v1.0//EN
CALSCALE:GREGORIAN
METHOD:PUBLISH
X-WR-CALNAME:Coordinated Children’s Service Initiative
X-ORIGINAL-URL:https://www.ccsinyc.org
X-WR-CALDESC:Events for Coordinated Children’s Service Initiative
REFRESH-INTERVAL;VALUE=DURATION:PT1H
X-Robots-Tag:noindex
X-PUBLISHED-TTL:PT1H
BEGIN:VTIMEZONE
TZID:America/New_York
BEGIN:DAYLIGHT
TZOFFSETFROM:-0500
TZOFFSETTO:-0400
TZNAME:EDT
DTSTART:20170312T070000
END:DAYLIGHT
BEGIN:STANDARD
TZOFFSETFROM:-0400
TZOFFSETTO:-0500
TZNAME:EST
DTSTART:20171105T060000
END:STANDARD
BEGIN:DAYLIGHT
TZOFFSETFROM:-0500
TZOFFSETTO:-0400
TZNAME:EDT
DTSTART:20180311T070000
END:DAYLIGHT
BEGIN:STANDARD
TZOFFSETFROM:-0400
TZOFFSETTO:-0500
TZNAME:EST
DTSTART:20181104T060000
END:STANDARD
BEGIN:DAYLIGHT
TZOFFSETFROM:-0500
TZOFFSETTO:-0400
TZNAME:EDT
DTSTART:20190310T070000
END:DAYLIGHT
BEGIN:STANDARD
TZOFFSETFROM:-0400
TZOFFSETTO:-0500
TZNAME:EST
DTSTART:20191103T060000
END:STANDARD
END:VTIMEZONE
BEGIN:VEVENT
DTSTART;VALUE=DATE:20181115
DTEND;VALUE=DATE:20181116
DTSTAMP:20260425T142437
CREATED:20181109T214918Z
LAST-MODIFIED:20181109T214918Z
UID:942-1542240000-1542326399@www.ccsinyc.org
SUMMARY:Reimagining Justice NYC Without Rikers Island
DESCRIPTION:Thursday\, November 15th\n9:00 AM – 6:00 PM\n63 5th Avenue\, Room UL102\nWith the impending closing of Rikers Island\, this conference will bring together community members\, service providers\, academics\, and policy makers to identify and work on the policy and programmatic solutions needed to reimagine a justice system that centers healthy individuals\, families\, and communities. This conference will look at people\, policy\, and place\, with a focus upon the structural policies regarding incarceration and the community based support required for justice and healing. The New School will serve as both a laboratory to test and advance collaborative work\, as well as a support to existing efforts throughout New York City. The conference will be action oriented to ensure that the knowledge produced and shared will lead to actionable initiatives and progress toward a more just NYC. \nFeatured speakers include: \n\nJennifer Jones Austin\, Chief Executive Officer & Executive Director\, Federation of Protestant Welfare Agencies\nMark Gardner\, Director\, Parsons School of Design\, The New School\nDana Kaplan\, Deputy Director\, NYC Mayor’s Office of Criminal Justice\nAna L. Oliveira\, President & CEO\, New York Women’s Foundation\nLilliam Barios Paoli\, (former) NYC Deputy Mayor\nMaya Wiley\, Henry Cohen Professor\, Senior Vice President for Social Justice\, The New School
URL:https://www.ccsinyc.org/event/reimagining-justice-nyc-without-rikers-island/
LOCATION:The New School\, 63 5th Avenue\,\, New York\, NY\, United States
END:VEVENT
END:VCALENDAR