BEGIN:VCALENDAR
VERSION:2.0
PRODID:-//Coordinated Children’s Service Initiative - ECPv6.15.17//NONSGML v1.0//EN
CALSCALE:GREGORIAN
METHOD:PUBLISH
X-WR-CALNAME:Coordinated Children’s Service Initiative
X-ORIGINAL-URL:https://www.ccsinyc.org
X-WR-CALDESC:Events for Coordinated Children’s Service Initiative
REFRESH-INTERVAL;VALUE=DURATION:PT1H
X-Robots-Tag:noindex
X-PUBLISHED-TTL:PT1H
BEGIN:VTIMEZONE
TZID:America/New_York
BEGIN:DAYLIGHT
TZOFFSETFROM:-0500
TZOFFSETTO:-0400
TZNAME:EDT
DTSTART:20190310T070000
END:DAYLIGHT
BEGIN:STANDARD
TZOFFSETFROM:-0400
TZOFFSETTO:-0500
TZNAME:EST
DTSTART:20191103T060000
END:STANDARD
BEGIN:DAYLIGHT
TZOFFSETFROM:-0500
TZOFFSETTO:-0400
TZNAME:EDT
DTSTART:20200308T070000
END:DAYLIGHT
BEGIN:STANDARD
TZOFFSETFROM:-0400
TZOFFSETTO:-0500
TZNAME:EST
DTSTART:20201101T060000
END:STANDARD
BEGIN:DAYLIGHT
TZOFFSETFROM:-0500
TZOFFSETTO:-0400
TZNAME:EDT
DTSTART:20210314T070000
END:DAYLIGHT
BEGIN:STANDARD
TZOFFSETFROM:-0400
TZOFFSETTO:-0500
TZNAME:EST
DTSTART:20211107T060000
END:STANDARD
END:VTIMEZONE
BEGIN:VEVENT
DTSTART;TZID=America/New_York:20200313T100000
DTEND;TZID=America/New_York:20200313T120000
DTSTAMP:20260421T100133
CREATED:20190809T173445Z
LAST-MODIFIED:20200317T141921Z
UID:1323-1584093600-1584100800@www.ccsinyc.org
SUMMARY:CANCELED - Bronx Borough Based Council Meeting
DESCRIPTION:Bronx Borough Based Council Co-Chairs\nGloria Alfinez\nParent Co-Chair – Community Schools \nAlice Greenfield\, VNSNY\nAgency Co-Chair \nInpatient/Outpatient Meeting: 11AM – 12PM  on October 11\, January 10\, April 10
URL:https://www.ccsinyc.org/event/bronx-borough-based-council-meeting-2-2020-03-13/
LOCATION:NY\, United States
CATEGORIES:BBC
ATTACH;FMTTYPE=image/jpeg:https://www.ccsinyc.org/wp-content/uploads/2019/08/2.jpg
END:VEVENT
END:VCALENDAR