BEGIN:VCALENDAR
VERSION:2.0
PRODID:-//Coordinated Children’s Service Initiative - ECPv6.15.17//NONSGML v1.0//EN
CALSCALE:GREGORIAN
METHOD:PUBLISH
X-WR-CALNAME:Coordinated Children’s Service Initiative
X-ORIGINAL-URL:https://www.ccsinyc.org
X-WR-CALDESC:Events for Coordinated Children’s Service Initiative
REFRESH-INTERVAL;VALUE=DURATION:PT1H
X-Robots-Tag:noindex
X-PUBLISHED-TTL:PT1H
BEGIN:VTIMEZONE
TZID:America/New_York
BEGIN:DAYLIGHT
TZOFFSETFROM:-0500
TZOFFSETTO:-0400
TZNAME:EDT
DTSTART:20180311T070000
END:DAYLIGHT
BEGIN:STANDARD
TZOFFSETFROM:-0400
TZOFFSETTO:-0500
TZNAME:EST
DTSTART:20181104T060000
END:STANDARD
BEGIN:DAYLIGHT
TZOFFSETFROM:-0500
TZOFFSETTO:-0400
TZNAME:EDT
DTSTART:20190310T070000
END:DAYLIGHT
BEGIN:STANDARD
TZOFFSETFROM:-0400
TZOFFSETTO:-0500
TZNAME:EST
DTSTART:20191103T060000
END:STANDARD
BEGIN:DAYLIGHT
TZOFFSETFROM:-0500
TZOFFSETTO:-0400
TZNAME:EDT
DTSTART:20200308T070000
END:DAYLIGHT
BEGIN:STANDARD
TZOFFSETFROM:-0400
TZOFFSETTO:-0500
TZNAME:EST
DTSTART:20201101T060000
END:STANDARD
END:VTIMEZONE
BEGIN:VEVENT
DTSTART;TZID=America/New_York:20190212T100000
DTEND;TZID=America/New_York:20190212T170000
DTSTAMP:20260423T021050
CREATED:20181228T203128Z
LAST-MODIFIED:20181228T203128Z
UID:998-1549965600-1549990800@www.ccsinyc.org
SUMMARY:Family Empowerment Day in Albany
DESCRIPTION:About Family Empowerment Day\nEach year\, Families Together in New York State\, a non-profit\, family-run organization that strives to establish a unified voice for children and youth with social\, emotional\, behavioral and cross-systems challenges\, hosts a Family Empowerment Day (formerly Legislative Awareness Day) in Albany. Family members visit legislators to voice their concerns and share their stories\, and legislators join families for the luncheon\, awards and speakers during the afternoon. The annual event offers a forum to continue the ongoing and vital discussions regarding children’s behavioral health and the need to support families and young people. The goal of the day is to bring family members and advocates from across New York State together to meet with legislators and state leaders and have their voices\, concerns and needs heard. Register at : bit.ly/FamEmpowerDay \nLunch is free!\nIf coming from NYC transportation is free with Families Together!\nPlease contact NYC Parent Advisor Bernadine Meeks to reserve a seat (212) 330-1678\, bernadine.meeks@omh.ny.gov\n 
URL:https://www.ccsinyc.org/event/family-empowerment-day-in-albany/
LOCATION:Albany Capital Center\, 55 Eagle Street\, Albany\, NY\, 12207\, United States
ATTACH;FMTTYPE=image/png:https://www.ccsinyc.org/wp-content/uploads/2018/12/FAMILY-EMPOWERMENT-DAY-FINAL.png
END:VEVENT
END:VCALENDAR