BEGIN:VCALENDAR
VERSION:2.0
PRODID:-//Coordinated Children’s Service Initiative - ECPv6.15.17//NONSGML v1.0//EN
CALSCALE:GREGORIAN
METHOD:PUBLISH
X-ORIGINAL-URL:https://www.ccsinyc.org
X-WR-CALDESC:Events for Coordinated Children’s Service Initiative
REFRESH-INTERVAL;VALUE=DURATION:PT1H
X-Robots-Tag:noindex
X-PUBLISHED-TTL:PT1H
BEGIN:VTIMEZONE
TZID:America/New_York
BEGIN:DAYLIGHT
TZOFFSETFROM:-0500
TZOFFSETTO:-0400
TZNAME:EDT
DTSTART:20220313T070000
END:DAYLIGHT
BEGIN:STANDARD
TZOFFSETFROM:-0400
TZOFFSETTO:-0500
TZNAME:EST
DTSTART:20221106T060000
END:STANDARD
BEGIN:DAYLIGHT
TZOFFSETFROM:-0500
TZOFFSETTO:-0400
TZNAME:EDT
DTSTART:20230312T070000
END:DAYLIGHT
BEGIN:STANDARD
TZOFFSETFROM:-0400
TZOFFSETTO:-0500
TZNAME:EST
DTSTART:20231105T060000
END:STANDARD
BEGIN:DAYLIGHT
TZOFFSETFROM:-0500
TZOFFSETTO:-0400
TZNAME:EDT
DTSTART:20240310T070000
END:DAYLIGHT
BEGIN:STANDARD
TZOFFSETFROM:-0400
TZOFFSETTO:-0500
TZNAME:EST
DTSTART:20241103T060000
END:STANDARD
END:VTIMEZONE
BEGIN:VEVENT
DTSTART;TZID=America/New_York:20230907T150000
DTEND;TZID=America/New_York:20230907T170000
DTSTAMP:20260423T210536
CREATED:20230828T163715Z
LAST-MODIFIED:20230828T163715Z
UID:4650-1694098800-1694106000@www.ccsinyc.org
SUMMARY:YAC Meeting
DESCRIPTION:Zoom link: https://vibrant.zoom.us/meeting/register/tZUuf-morTIoHNNU3VneV2ISH5OnH0CF1P9O
URL:https://www.ccsinyc.org/event/yac-meeting/2023-09-07/
END:VEVENT
BEGIN:VEVENT
DTSTART;TZID=America/New_York:20230908T100000
DTEND;TZID=America/New_York:20230908T120000
DTSTAMP:20260423T210536
CREATED:20230816T184133Z
LAST-MODIFIED:20230816T184312Z
UID:4457-1694167200-1694174400@www.ccsinyc.org
SUMMARY:Bronx BBC Meeting
DESCRIPTION:Every Second Friday of the Month from 10 am to 12 pm\n\nRegistration Link:\nhttps://vibrant.zoom.us/meeting/register/tZIlcO2rqD4uHtNRlWQ82zcxpBJFVjGunjki
URL:https://www.ccsinyc.org/event/bronx-bbc-meeting/2023-09-08/
END:VEVENT
BEGIN:VEVENT
DTSTART;TZID=America/New_York:20230918T110000
DTEND;TZID=America/New_York:20230918T130000
DTSTAMP:20260423T210536
CREATED:20230816T185631Z
LAST-MODIFIED:20230816T190037Z
UID:4513-1695034800-1695042000@www.ccsinyc.org
SUMMARY:Staten Island BBC Meeting
DESCRIPTION:First Monday of every month from 11 am to 1 pm\n\nRegistration Link:\nhttps://vibrant.zoom.us/j/82649349512?pwd=c1lPY3ZSWUVBaEpwV1BsVHk3UkwrQT09
URL:https://www.ccsinyc.org/event/staten-island-bbc-meeting-2/2023-09-18/
END:VEVENT
BEGIN:VEVENT
DTSTART;TZID=America/New_York:20230921T120000
DTEND;TZID=America/New_York:20230921T140000
DTSTAMP:20260423T210536
CREATED:20230816T190335Z
LAST-MODIFIED:20230816T190745Z
UID:4579-1695297600-1695304800@www.ccsinyc.org
SUMMARY:Manhattan BBC Meeting
DESCRIPTION:Registration Link:\nhttps://vibrant.zoom.us/j/87634813145?pwd=aDZkMHprQm5PVGhLWFMzUjlYS25KQT09
URL:https://www.ccsinyc.org/event/4579/2023-09-21/
END:VEVENT
BEGIN:VEVENT
DTSTART;TZID=America/New_York:20230922T100000
DTEND;TZID=America/New_York:20230922T120000
DTSTAMP:20260423T210536
CREATED:20230816T190516Z
LAST-MODIFIED:20230816T190516Z
UID:4590-1695376800-1695384000@www.ccsinyc.org
SUMMARY:Brooklyn BBC Meeting
DESCRIPTION: Registration Link: https://vibrant.zoom.us/j/83563288929?pwd=dDI1ck0xaElheTk1RVVwLzE4M2RSZz09&from=addon
URL:https://www.ccsinyc.org/event/brooklyn-bbc-meeting/2023-09-22/
END:VEVENT
BEGIN:VEVENT
DTSTART;TZID=America/New_York:20230925T120000
DTEND;TZID=America/New_York:20230925T140000
DTSTAMP:20260423T210536
CREATED:20230816T190652Z
LAST-MODIFIED:20230816T190922Z
UID:4601-1695643200-1695650400@www.ccsinyc.org
SUMMARY:Queens BBC Meeting
DESCRIPTION:Registration Link: https://vibrant.zoom.us/j/83012644869?pwd=UUlZamNBWFhOZkd6ZDFDZmRhaHBxdz09&from=addon
URL:https://www.ccsinyc.org/event/queens-bbc-meeting/2023-09-25/
END:VEVENT
END:VCALENDAR