BEGIN:VCALENDAR
VERSION:2.0
PRODID:-//Coordinated Children’s Service Initiative - ECPv6.15.17//NONSGML v1.0//EN
CALSCALE:GREGORIAN
METHOD:PUBLISH
X-WR-CALNAME:Coordinated Children’s Service Initiative
X-ORIGINAL-URL:https://www.ccsinyc.org
X-WR-CALDESC:Events for Coordinated Children’s Service Initiative
REFRESH-INTERVAL;VALUE=DURATION:PT1H
X-Robots-Tag:noindex
X-PUBLISHED-TTL:PT1H
BEGIN:VTIMEZONE
TZID:America/New_York
BEGIN:DAYLIGHT
TZOFFSETFROM:-0500
TZOFFSETTO:-0400
TZNAME:EDT
DTSTART:20210314T070000
END:DAYLIGHT
BEGIN:STANDARD
TZOFFSETFROM:-0400
TZOFFSETTO:-0500
TZNAME:EST
DTSTART:20211107T060000
END:STANDARD
BEGIN:DAYLIGHT
TZOFFSETFROM:-0500
TZOFFSETTO:-0400
TZNAME:EDT
DTSTART:20220313T070000
END:DAYLIGHT
BEGIN:STANDARD
TZOFFSETFROM:-0400
TZOFFSETTO:-0500
TZNAME:EST
DTSTART:20221106T060000
END:STANDARD
BEGIN:DAYLIGHT
TZOFFSETFROM:-0500
TZOFFSETTO:-0400
TZNAME:EDT
DTSTART:20230312T070000
END:DAYLIGHT
BEGIN:STANDARD
TZOFFSETFROM:-0400
TZOFFSETTO:-0500
TZNAME:EST
DTSTART:20231105T060000
END:STANDARD
END:VTIMEZONE
BEGIN:VEVENT
DTSTART;TZID=America/New_York:20220909T100000
DTEND;TZID=America/New_York:20220909T120000
DTSTAMP:20260420T113650
CREATED:20220831T155409Z
LAST-MODIFIED:20230120T193148Z
UID:3672-1662717600-1662724800@www.ccsinyc.org
SUMMARY:Bronx Borough Based Council
DESCRIPTION:CLICK HERE for Registration Link
URL:https://www.ccsinyc.org/event/bronx-borough-based-council-2022-09-09/2022-09-09/
CATEGORIES:BBC,CCSI
END:VEVENT
BEGIN:VEVENT
DTSTART;TZID=America/New_York:20220912T110000
DTEND;TZID=America/New_York:20220912T130000
DTSTAMP:20260420T113650
CREATED:20220831T155316Z
LAST-MODIFIED:20230120T193243Z
UID:3673-1662980400-1662987600@www.ccsinyc.org
SUMMARY:Staten Island Borough Based Council
DESCRIPTION:CLICK HERE for Registration Link
URL:https://www.ccsinyc.org/event/staten-island-borough-based-council-2022-09-12/2022-09-12/
CATEGORIES:BBC,CCSI
END:VEVENT
BEGIN:VEVENT
DTSTART;TZID=America/New_York:20220915T120000
DTEND;TZID=America/New_York:20220915T140000
DTSTAMP:20260420T113650
CREATED:20220831T155213Z
LAST-MODIFIED:20230124T191459Z
UID:3671-1663243200-1663250400@www.ccsinyc.org
SUMMARY:Manhattan Borough Based Council
DESCRIPTION:CLICK HERE for Registration Link
URL:https://www.ccsinyc.org/event/manhattan-borough-based-council-2022-09-15/2022-09-15/
CATEGORIES:BBC,CCSI
END:VEVENT
BEGIN:VEVENT
DTSTART;TZID=America/New_York:20220923T100000
DTEND;TZID=America/New_York:20220923T120000
DTSTAMP:20260420T113650
CREATED:20220831T144201Z
LAST-MODIFIED:20230120T193052Z
UID:3667-1663927200-1663934400@www.ccsinyc.org
SUMMARY:Brooklyn Borough Based Council
DESCRIPTION:CLICK HERE for Registration Link
URL:https://www.ccsinyc.org/event/brooklyn-borough-based-council-2022-09-23/2022-09-23/
CATEGORIES:BBC,CCSI
END:VEVENT
BEGIN:VEVENT
DTSTART;TZID=America/New_York:20220926T100000
DTEND;TZID=America/New_York:20220926T120000
DTSTAMP:20260420T113650
CREATED:20220831T144403Z
LAST-MODIFIED:20230120T193025Z
UID:3669-1664186400-1664193600@www.ccsinyc.org
SUMMARY:Queens Borough Based Council
DESCRIPTION:CLICK HERE for Registration Link
URL:https://www.ccsinyc.org/event/queens-borough-based-council-2022-09-26/2022-09-26/
CATEGORIES:BBC,CCSI
END:VEVENT
END:VCALENDAR