BEGIN:VCALENDAR
VERSION:2.0
PRODID:-//Coordinated Children’s Service Initiative - ECPv6.15.17//NONSGML v1.0//EN
CALSCALE:GREGORIAN
METHOD:PUBLISH
X-WR-CALNAME:Coordinated Children’s Service Initiative
X-ORIGINAL-URL:https://www.ccsinyc.org
X-WR-CALDESC:Events for Coordinated Children’s Service Initiative
REFRESH-INTERVAL;VALUE=DURATION:PT1H
X-Robots-Tag:noindex
X-PUBLISHED-TTL:PT1H
BEGIN:VTIMEZONE
TZID:America/New_York
BEGIN:DAYLIGHT
TZOFFSETFROM:-0500
TZOFFSETTO:-0400
TZNAME:EDT
DTSTART:20200308T070000
END:DAYLIGHT
BEGIN:STANDARD
TZOFFSETFROM:-0400
TZOFFSETTO:-0500
TZNAME:EST
DTSTART:20201101T060000
END:STANDARD
BEGIN:DAYLIGHT
TZOFFSETFROM:-0500
TZOFFSETTO:-0400
TZNAME:EDT
DTSTART:20210314T070000
END:DAYLIGHT
BEGIN:STANDARD
TZOFFSETFROM:-0400
TZOFFSETTO:-0500
TZNAME:EST
DTSTART:20211107T060000
END:STANDARD
BEGIN:DAYLIGHT
TZOFFSETFROM:-0500
TZOFFSETTO:-0400
TZNAME:EDT
DTSTART:20220313T070000
END:DAYLIGHT
BEGIN:STANDARD
TZOFFSETFROM:-0400
TZOFFSETTO:-0500
TZNAME:EST
DTSTART:20221106T060000
END:STANDARD
END:VTIMEZONE
BEGIN:VEVENT
DTSTART;TZID=America/New_York:20210104T120000
DTEND;TZID=America/New_York:20210104T133000
DTSTAMP:20260419T140806
CREATED:20201223T160602Z
LAST-MODIFIED:20201223T162423Z
UID:2976-1609761600-1609767000@www.ccsinyc.org
SUMMARY:Staten Island BBC - Winter/Spring 2021
DESCRIPTION:Welcome to 2021 CCSI Community!\nWe are continuing to meet virtually for the 1st half of 2021! We are grateful that you are here to hold space and build community with us in these challenging times. Be safe and know we are committed to creating brave\, advocacy and solution-focused space together!\nConnect to the Winter/Spring 2021 Staten Island BBC Meetings here\nThe Winter/Spring BBC Schedule is pictured below (we will meet via Zoom from 12 pm to 1:30 PM on the scheduled dates): \n \nYou can download a PDF of the Winter/Spring BBC Schedule\, along with a brief overview of the CCSI program and contact information here: CCSI BBC YAC January to June 2021 Schedule Flyer_FINAL \nYour Staten Island BBC Co-Chairs are: Kit Allen\, Taj Ellis\, & Veronica Grant
URL:https://www.ccsinyc.org/event/staten-island-bbc-winter-spring-2021/2021-01-04/
CATEGORIES:BBC,CCSI
END:VEVENT
BEGIN:VEVENT
DTSTART;TZID=America/New_York:20210108T120000
DTEND;TZID=America/New_York:20210108T133000
DTSTAMP:20260419T140806
CREATED:20201224T184127Z
LAST-MODIFIED:20201224T203335Z
UID:3004-1610107200-1610112600@www.ccsinyc.org
SUMMARY:The Bronx BBC - Winter/Spring 2021
DESCRIPTION:Welcome to 2021 CCSI Community!\nWe are continuing to meet virtually for the 1st half of 2021! We are grateful that you are here to hold space and build community with us in these challenging times. Be safe and know we are committed to creating brave\, advocacy and solution-focused space together!\nConnect to the Winter/Spring 2021 Bronx BBC Meetings here\nThe Winter/Spring BBC Schedule is pictured below (we will meet via Zoom from 12 pm to 1:30 PM on the scheduled dates): \n \nYou can download a PDF of the Winter/Spring BBC Schedule\, along with a brief overview of the CCSI program and contact information here: CCSI BBC YAC January to June 2021 Schedule Flyer_FINAL \nYour Bronx BBC Co-Chairs are: Gloria Alfinez\, Alice Greenfield\, & Cruz Fuksman
URL:https://www.ccsinyc.org/event/bronx-winter-spring-2021/2021-01-08/
CATEGORIES:BBC,CCSI
END:VEVENT
BEGIN:VEVENT
DTSTART;TZID=America/New_York:20210121T120000
DTEND;TZID=America/New_York:20210121T133000
DTSTAMP:20260419T140806
CREATED:20201224T201428Z
LAST-MODIFIED:20201224T201428Z
UID:3036-1611230400-1611235800@www.ccsinyc.org
SUMMARY:Manhattan BBC - Winter/Spring 2021
DESCRIPTION:Welcome to 2021 CCSI Community!\nWe are continuing to meet virtually for the 1st half of 2021! We are grateful that you are here to hold space and build community with us in these challenging times. Be safe and know we are committed to creating brave\, advocacy and solution-focused space together!\nConnect to the Winter/Spring 2021 Manhattan BBC Meetings here\nThe Winter/Spring BBC Schedule is pictured below (we will meet via Zoom from 12 pm to 1:30 PM on the scheduled dates): \n \nYou can download a PDF of the Winter/Spring BBC Schedule\, along with a brief overview of the CCSI program and contact information here: CCSI BBC YAC January to June 2021 Schedule Flyer_FINAL \nYour Manhattan BBC Co-Chairs are: Karmita Morgan-Randall\, Denise Martin\, & Nitaka Corprew
URL:https://www.ccsinyc.org/event/manhattan-bbc-winter-spring-2021/2021-01-21/
CATEGORIES:BBC,CCSI
END:VEVENT
BEGIN:VEVENT
DTSTART;TZID=America/New_York:20210121T170000
DTEND;TZID=America/New_York:20210121T190000
DTSTAMP:20260419T140806
CREATED:20200811T132738Z
LAST-MODIFIED:20210111T213848Z
UID:2658-1611248400-1611255600@www.ccsinyc.org
SUMMARY:RESCHEDULED - Policing - YAC Youth Virtual Learning Series
DESCRIPTION:REGISTER FOR POLICING 1/21 5-7 PM EVENT HERE\n \nPlease join us for the CCSI Youth Advisory Council’s Fall Virtual Learning Series!\nCCSI YAC Virtual Learning Series Fall 2020 Flyer <<< DOWNLOAD FLYER HERE (includes zoom registration links found below)\n\nOn Wednesdays from 7-9 PM throughout Fall 2020\, the CCSI YAC will be holding its Youth Virtual Learning Series! REGISTER:\n\n\nSelf Care & Coping\, Wednesday  Aug 26th\n\n\nCOVID-19 Mythbusting & Medical Racism Exploration\, Wednesday Sept 23rd\n\n\nActivism & Organizing\, Wednesday Oct 21st\n\n\nPolicing\, Wednesday Dec 16th\, RESCHEDULED FOR THURSDAY JANUARY 21ST\, 2021 FROM 5-7 PM\n\n\nPLUS ZOOM PARTIES:\n\n\nHalloween Party on Wednesday Oct 28th\n\n\nHoliday Party on Wednesday Dec 23rd
URL:https://www.ccsinyc.org/event/policing-yac-youth-virtual-learning-series/
CATEGORIES:YAC
END:VEVENT
BEGIN:VEVENT
DTSTART;TZID=America/New_York:20210122T120000
DTEND;TZID=America/New_York:20210122T133000
DTSTAMP:20260419T140806
CREATED:20201224T194351Z
LAST-MODIFIED:20201224T194351Z
UID:3018-1611316800-1611322200@www.ccsinyc.org
SUMMARY:Brooklyn BBC - Winter/Spring 2021
DESCRIPTION:Welcome to 2021 CCSI Community!\nWe are continuing to meet virtually for the 1st half of 2021! We are grateful that you are here to hold space and build community with us in these challenging times. Be safe and know we are committed to creating brave\, advocacy and solution-focused space together!\nConnect to the Winter/Spring 2021 Brooklyn BBC Meetings here\nThe Winter/Spring BBC Schedule is pictured below (we will meet via Zoom from 12 pm to 1:30 PM on the scheduled dates): \n \nYou can download a PDF of the Winter/Spring BBC Schedule\, along with a brief overview of the CCSI program and contact information here: CCSI BBC YAC January to June 2021 Schedule Flyer_FINAL \nYour Brooklyn BBC Co-Chairs are: Monique Lindsay\, Evelyn Pugh\, Selina Lebron
URL:https://www.ccsinyc.org/event/brooklyn-bbc-winter-spring-2021/2021-01-22/
CATEGORIES:BBC,CCSI
END:VEVENT
BEGIN:VEVENT
DTSTART;TZID=America/New_York:20210125T120000
DTEND;TZID=America/New_York:20210125T133000
DTSTAMP:20260419T140806
CREATED:20201224T195240Z
LAST-MODIFIED:20210122T194543Z
UID:3025-1611576000-1611581400@www.ccsinyc.org
SUMMARY:Queens BBC - Winter/Spring 2021
DESCRIPTION:Welcome to 2021 CCSI Community!\nWe are continuing to meet virtually for the 1st half of 2021! We are grateful that you are here to hold space and build community with us in these challenging times. Be safe and know we are committed to creating brave\, advocacy and solution-focused space together!\nConnect to the Winter/Spring 2021 Queens BBC Meetings here\nThe Winter/Spring BBC Schedule is pictured below (we will meet via Zoom from 12 pm to 1:30 PM on the scheduled dates): \n \nYou can download a PDF of the Winter/Spring BBC Schedule\, along with a brief overview of the CCSI program and contact information here: CCSI BBC YAC January to June 2021 Schedule Flyer_FINAL \nYour Queens BBC Co-Chairs are: Debbie Fraser\, Kathy Gardini & Wiletta Williams
URL:https://www.ccsinyc.org/event/queens-bbc-winter-spring-2021/2021-01-25/
CATEGORIES:BBC,CCSI
END:VEVENT
BEGIN:VEVENT
DTSTART;TZID=America/New_York:20210128T180000
DTEND;TZID=America/New_York:20210128T200000
DTSTAMP:20260419T140806
CREATED:20201224T202633Z
LAST-MODIFIED:20201224T202633Z
UID:3058-1611856800-1611864000@www.ccsinyc.org
SUMMARY:KNOW YOUR RIGHTS! - a CCSI YAC & CCRB Collaboration
DESCRIPTION:LAST THURSDAYS 6-8 PM – REGISTER HERE\n\nWant to know your rights in a situation of police misconduct?\nLooking for a safe youth space to discuss this issue? You’ve come to the right place!\nDownload the flyer here: CCSI Know Your Rights w CCRB Jan – June 2021 Flyer_FINAL\nEach session presents the same vital information\, directly from the Civilian Complaint Review Board (CCRB)!\n \nLAST THURSDAYS 6-8 PM – REGISTER HERE
URL:https://www.ccsinyc.org/event/know-your-rights-a-ccsi-yac-ccrb-collaboration-2/2021-01-28/
CATEGORIES:YAC
END:VEVENT
END:VCALENDAR