BEGIN:VCALENDAR
VERSION:2.0
PRODID:-//Coordinated Children’s Service Initiative - ECPv6.15.17//NONSGML v1.0//EN
CALSCALE:GREGORIAN
METHOD:PUBLISH
X-WR-CALNAME:Coordinated Children’s Service Initiative
X-ORIGINAL-URL:https://www.ccsinyc.org
X-WR-CALDESC:Events for Coordinated Children’s Service Initiative
REFRESH-INTERVAL;VALUE=DURATION:PT1H
X-Robots-Tag:noindex
X-PUBLISHED-TTL:PT1H
BEGIN:VTIMEZONE
TZID:America/New_York
BEGIN:DAYLIGHT
TZOFFSETFROM:-0500
TZOFFSETTO:-0400
TZNAME:EDT
DTSTART:20200308T070000
END:DAYLIGHT
BEGIN:STANDARD
TZOFFSETFROM:-0400
TZOFFSETTO:-0500
TZNAME:EST
DTSTART:20201101T060000
END:STANDARD
BEGIN:DAYLIGHT
TZOFFSETFROM:-0500
TZOFFSETTO:-0400
TZNAME:EDT
DTSTART:20210314T070000
END:DAYLIGHT
BEGIN:STANDARD
TZOFFSETFROM:-0400
TZOFFSETTO:-0500
TZNAME:EST
DTSTART:20211107T060000
END:STANDARD
BEGIN:DAYLIGHT
TZOFFSETFROM:-0500
TZOFFSETTO:-0400
TZNAME:EDT
DTSTART:20220313T070000
END:DAYLIGHT
BEGIN:STANDARD
TZOFFSETFROM:-0400
TZOFFSETTO:-0500
TZNAME:EST
DTSTART:20221106T060000
END:STANDARD
END:VTIMEZONE
BEGIN:VEVENT
DTSTART;TZID=America/New_York:20210421T130000
DTEND;TZID=America/New_York:20210421T150000
DTSTAMP:20260419T124530
CREATED:20210409T153147Z
LAST-MODIFIED:20210409T153147Z
UID:3216-1619010000-1619017200@www.ccsinyc.org
SUMMARY:CCSI Training Series: Accessing and Advocating for Special Education Services in the Midst of a Pandemic - Presented by Advocates for Children
DESCRIPTION:The Coordinated Children’s Services Initiative of NYC\, in collaboration with Advocates for Children present: \nAccessing and Advocating for Special Education Services in the Midst of a Pandemic\nThis workshop covers the IEP development process\, including: referrals\, evaluations\, the IEP meeting\, program and placement options\, advocacy tips\, & due process rights.  Special attention will be given to issues created by remote and blended learning in the receipt of services. \nREGISTER ON ZOOM\n  \n 
URL:https://www.ccsinyc.org/event/ccsi-training-series-accessing-and-advocating-for-special-education-services-in-the-midst-of-a-pandemic-presented-by-advocates-for-children/
CATEGORIES:CCSI
END:VEVENT
END:VCALENDAR