BEGIN:VCALENDAR
VERSION:2.0
PRODID:-//Coordinated Children’s Service Initiative - ECPv6.15.17//NONSGML v1.0//EN
CALSCALE:GREGORIAN
METHOD:PUBLISH
X-ORIGINAL-URL:https://www.ccsinyc.org
X-WR-CALDESC:Events for Coordinated Children’s Service Initiative
REFRESH-INTERVAL;VALUE=DURATION:PT1H
X-Robots-Tag:noindex
X-PUBLISHED-TTL:PT1H
BEGIN:VTIMEZONE
TZID:America/New_York
BEGIN:DAYLIGHT
TZOFFSETFROM:-0500
TZOFFSETTO:-0400
TZNAME:EDT
DTSTART:20200308T070000
END:DAYLIGHT
BEGIN:STANDARD
TZOFFSETFROM:-0400
TZOFFSETTO:-0500
TZNAME:EST
DTSTART:20201101T060000
END:STANDARD
BEGIN:DAYLIGHT
TZOFFSETFROM:-0500
TZOFFSETTO:-0400
TZNAME:EDT
DTSTART:20210314T070000
END:DAYLIGHT
BEGIN:STANDARD
TZOFFSETFROM:-0400
TZOFFSETTO:-0500
TZNAME:EST
DTSTART:20211107T060000
END:STANDARD
BEGIN:DAYLIGHT
TZOFFSETFROM:-0500
TZOFFSETTO:-0400
TZNAME:EDT
DTSTART:20220313T070000
END:DAYLIGHT
BEGIN:STANDARD
TZOFFSETFROM:-0400
TZOFFSETTO:-0500
TZNAME:EST
DTSTART:20221106T060000
END:STANDARD
END:VTIMEZONE
BEGIN:VEVENT
DTSTART;TZID=America/New_York:20210503T170000
DTEND;TZID=America/New_York:20210503T180000
DTSTAMP:20260424T052445
CREATED:20210426T222229Z
LAST-MODIFIED:20210426T222229Z
UID:3248-1620061200-1620064800@www.ccsinyc.org
SUMMARY:Youth Advisory Council VIRTUAL Weekly Meeting - May & June 2021
DESCRIPTION:Amidst the COVID-19 citywide response\, the CCSI-NYC Youth Advisory Council will continue to meet virtually every Monday from 5 PM to 6PM\, the link below is to our May and June 2021 meetings (We will not meet on Monday May 31st in observance of Memorial Day)!\nRegister via Zoom HERE to join our meetings in May & June 2021\nFill out our YAC Interest Form HERE\n\n \n***Gift cards available for adequate participation! Find out how to earn one by joining a meeting or emailing us at CCSIYAC@vibrant.org! \n 
URL:https://www.ccsinyc.org/event/youth-advisory-council-virtual-weekly-meeting-may-june-2021/2021-05-03/
CATEGORIES:CCSI,YAC
END:VEVENT
BEGIN:VEVENT
DTSTART;TZID=America/New_York:20210505T130000
DTEND;TZID=America/New_York:20210505T150000
DTSTAMP:20260424T052445
CREATED:20210409T154034Z
LAST-MODIFIED:20210409T154034Z
UID:3218-1620219600-1620226800@www.ccsinyc.org
SUMMARY:CCSI Training Series: What Does School Discipline Look Like in a Pandemic? - Presented by Advocates for Children
DESCRIPTION:The Coordinated Children’s Services Initiative of NYC\, in collaboration with Advocates for Children present: \nWhat Does School Discipline Look Like in a Pandemic\nThis workshop covers the education rights of students with disabilities who face behavioral challenges in school. It includes information on behavioral supports\, interventions and special protections for students removed from class or suspended from school. \nREGISTER ON ZOOM\n  \n 
URL:https://www.ccsinyc.org/event/ccsi-training-series-what-does-school-discipline-look-like-in-a-pandemic-presented-by-advocates-for-children/
CATEGORIES:CCSI
END:VEVENT
BEGIN:VEVENT
DTSTART;TZID=America/New_York:20210519T130000
DTEND;TZID=America/New_York:20210519T150000
DTSTAMP:20260424T052445
CREATED:20210420T201630Z
LAST-MODIFIED:20210420T201630Z
UID:3241-1621429200-1621436400@www.ccsinyc.org
SUMMARY:CCSI Training Series: Staying in Balance
DESCRIPTION:The Coordinated Children’s Services Initiative of NYC presents: \nStaying in Balance\nA CCSI-NYC training focusing on healthy ways to deal with the different levels of emotional distress that arise from the course of our day-to-day interactions. \nREGISTER ON ZOOM
URL:https://www.ccsinyc.org/event/ccsi-training-series-staying-in-balance/
CATEGORIES:CCSI
END:VEVENT
BEGIN:VEVENT
DTSTART;TZID=America/New_York:20210525T170000
DTEND;TZID=America/New_York:20210525T190000
DTSTAMP:20260424T052445
CREATED:20210511T163653Z
LAST-MODIFIED:20210511T181257Z
UID:3271-1621962000-1621969200@www.ccsinyc.org
SUMMARY:COVID: On The Path to Wellness - Presented by the MBBC
DESCRIPTION:REGISTER VIA ZOOM HERE!\nDon’t forget to include your questions for the doctors in your registration! \nThank you for your interest in the Manhattan BBC’s COVID: On The Path To Wellness – Mental Health Preparedness In the Time of COVID virtual event! \nWe will have representation\, including an informational presentation\, from the Department of Health & Mental Hygiene (DOHMH) and other medical doctors and public health professionals at this event! Panelists of family and community members will also share their perspectives\, experiences\, and concerns. The event will close with extended community discussion.\nQ&A will be encouraged throughout the event! Please submit your questions with your zoom registration! \nDownload & Share the PDF Event Flyer here!
URL:https://www.ccsinyc.org/event/covid-on-the-path-to-wellness-presented-by-the-mbbc/
CATEGORIES:CCSI,City Events
ATTACH;FMTTYPE=image/png:https://www.ccsinyc.org/wp-content/uploads/2021/05/MBBC-COVID-Session-Flyer.png
END:VEVENT
END:VCALENDAR