BEGIN:VCALENDAR
VERSION:2.0
PRODID:-//Coordinated Children’s Service Initiative - ECPv6.15.17//NONSGML v1.0//EN
CALSCALE:GREGORIAN
METHOD:PUBLISH
X-ORIGINAL-URL:https://www.ccsinyc.org
X-WR-CALDESC:Events for Coordinated Children’s Service Initiative
REFRESH-INTERVAL;VALUE=DURATION:PT1H
X-Robots-Tag:noindex
X-PUBLISHED-TTL:PT1H
BEGIN:VTIMEZONE
TZID:America/New_York
BEGIN:DAYLIGHT
TZOFFSETFROM:-0500
TZOFFSETTO:-0400
TZNAME:EDT
DTSTART:20250309T070000
END:DAYLIGHT
BEGIN:STANDARD
TZOFFSETFROM:-0400
TZOFFSETTO:-0500
TZNAME:EST
DTSTART:20251102T060000
END:STANDARD
BEGIN:DAYLIGHT
TZOFFSETFROM:-0500
TZOFFSETTO:-0400
TZNAME:EDT
DTSTART:20260308T070000
END:DAYLIGHT
BEGIN:STANDARD
TZOFFSETFROM:-0400
TZOFFSETTO:-0500
TZNAME:EST
DTSTART:20261101T060000
END:STANDARD
BEGIN:DAYLIGHT
TZOFFSETFROM:-0500
TZOFFSETTO:-0400
TZNAME:EDT
DTSTART:20270314T070000
END:DAYLIGHT
BEGIN:STANDARD
TZOFFSETFROM:-0400
TZOFFSETTO:-0500
TZNAME:EST
DTSTART:20271107T060000
END:STANDARD
END:VTIMEZONE
BEGIN:VEVENT
DTSTART;TZID=America/New_York:20260316T100000
DTEND;TZID=America/New_York:20260316T111500
DTSTAMP:20260424T072820
CREATED:20260204T205918Z
LAST-MODIFIED:20260204T205918Z
UID:7219-1773655200-1773659700@www.ccsinyc.org
SUMMARY:Queens BBC
DESCRIPTION:Topic: Queens BBC \nTime: Mar 16\, 2026 10:00 AM Eastern Time (US and Canada) \nJoin Zoom Meeting \nhttps://vibrant.zoom.us/j/83489378051?pwd=rN27sqM9GFUojW34BY4l9Q0aTrc0xX.1 \n  \n  \nMeeting ID: 834 8937 8051 \nPasscode: 080066 \n  \n— \n  \nOne tap mobile \n+16469313860\,\,83489378051# US \n+16465588656\,\,83489378051# US (New York) \n  \n— \n  \nJoin by SIP \n\n83489378051@zoomcrc.com\n\nPasscode: 080066 \n  \nJoin instructions \nhttps://vibrant.zoom.us/meetings/83489378051/invitations?signature=s2jZxQu7pxiKz1kwKr-W-y8h0L–2bKXP9F80bIddfo \n 
URL:https://www.ccsinyc.org/event/queens-bbc-5/
CATEGORIES:BBC
END:VEVENT
END:VCALENDAR