BEGIN:VCALENDAR
VERSION:2.0
PRODID:-//Coordinated Children’s Service Initiative - ECPv6.15.17//NONSGML v1.0//EN
CALSCALE:GREGORIAN
METHOD:PUBLISH
X-WR-CALNAME:Coordinated Children’s Service Initiative
X-ORIGINAL-URL:https://www.ccsinyc.org
X-WR-CALDESC:Events for Coordinated Children’s Service Initiative
REFRESH-INTERVAL;VALUE=DURATION:PT1H
X-Robots-Tag:noindex
X-PUBLISHED-TTL:PT1H
BEGIN:VTIMEZONE
TZID:America/New_York
BEGIN:DAYLIGHT
TZOFFSETFROM:-0500
TZOFFSETTO:-0400
TZNAME:EDT
DTSTART:20240310T070000
END:DAYLIGHT
BEGIN:STANDARD
TZOFFSETFROM:-0400
TZOFFSETTO:-0500
TZNAME:EST
DTSTART:20241103T060000
END:STANDARD
BEGIN:DAYLIGHT
TZOFFSETFROM:-0500
TZOFFSETTO:-0400
TZNAME:EDT
DTSTART:20250309T070000
END:DAYLIGHT
BEGIN:STANDARD
TZOFFSETFROM:-0400
TZOFFSETTO:-0500
TZNAME:EST
DTSTART:20251102T060000
END:STANDARD
BEGIN:DAYLIGHT
TZOFFSETFROM:-0500
TZOFFSETTO:-0400
TZNAME:EDT
DTSTART:20260308T070000
END:DAYLIGHT
BEGIN:STANDARD
TZOFFSETFROM:-0400
TZOFFSETTO:-0500
TZNAME:EST
DTSTART:20261101T060000
END:STANDARD
END:VTIMEZONE
BEGIN:VEVENT
DTSTART;TZID=America/New_York:20251124T110000
DTEND;TZID=America/New_York:20251124T120000
DTSTAMP:20260419T205000
CREATED:20251029T134650Z
LAST-MODIFIED:20251103T163154Z
UID:7097-1763982000-1763985600@www.ccsinyc.org
SUMMARY:Staten Island BBC
DESCRIPTION:Topic: Staten Island BBC\nTime: Nov 24\, 2025 11:00 AM Eastern Time (US and Canada)\nJoin Zoom Meeting\nhttps://vibrant.zoom.us/j/84501756256?pwd=YWub142uRcdDNiMGboblsaKcUWyElP.1 \nMeeting ID: 845 0175 6256\nPasscode: 926035 \n— \nOne tap mobile\n+16465588656\,\,84501756256# US (New York)\n+16469313860\,\,84501756256# US \n— \nJoin by SIP\n• 84501756256@zoomcrc.com\nPasscode: 926035 \nJoin instructions\nhttps://vibrant.zoom.us/meetings/84501756256/invitations?signature=atR2fpnm-wdWVPkUm26LsTtCLQcgWSXsWCYurQ_6sLg \n 
URL:https://www.ccsinyc.org/event/staten-island-borough-based-council-meeting-5/
END:VEVENT
END:VCALENDAR