BEGIN:VCALENDAR
VERSION:2.0
PRODID:-//Coordinated Children’s Service Initiative - ECPv6.15.17//NONSGML v1.0//EN
CALSCALE:GREGORIAN
METHOD:PUBLISH
X-ORIGINAL-URL:https://www.ccsinyc.org
X-WR-CALDESC:Events for Coordinated Children’s Service Initiative
REFRESH-INTERVAL;VALUE=DURATION:PT1H
X-Robots-Tag:noindex
X-PUBLISHED-TTL:PT1H
BEGIN:VTIMEZONE
TZID:America/New_York
BEGIN:DAYLIGHT
TZOFFSETFROM:-0500
TZOFFSETTO:-0400
TZNAME:EDT
DTSTART:20200308T070000
END:DAYLIGHT
BEGIN:STANDARD
TZOFFSETFROM:-0400
TZOFFSETTO:-0500
TZNAME:EST
DTSTART:20201101T060000
END:STANDARD
BEGIN:DAYLIGHT
TZOFFSETFROM:-0500
TZOFFSETTO:-0400
TZNAME:EDT
DTSTART:20210314T070000
END:DAYLIGHT
BEGIN:STANDARD
TZOFFSETFROM:-0400
TZOFFSETTO:-0500
TZNAME:EST
DTSTART:20211107T060000
END:STANDARD
BEGIN:DAYLIGHT
TZOFFSETFROM:-0500
TZOFFSETTO:-0400
TZNAME:EDT
DTSTART:20220313T070000
END:DAYLIGHT
BEGIN:STANDARD
TZOFFSETFROM:-0400
TZOFFSETTO:-0500
TZNAME:EST
DTSTART:20221106T060000
END:STANDARD
END:VTIMEZONE
BEGIN:VEVENT
DTSTART;TZID=America/New_York:20210122T120000
DTEND;TZID=America/New_York:20210122T133000
DTSTAMP:20260419T221602
CREATED:20201224T194351Z
LAST-MODIFIED:20201224T194351Z
UID:3018-1611316800-1611322200@www.ccsinyc.org
SUMMARY:Brooklyn BBC - Winter/Spring 2021
DESCRIPTION:Welcome to 2021 CCSI Community!\nWe are continuing to meet virtually for the 1st half of 2021! We are grateful that you are here to hold space and build community with us in these challenging times. Be safe and know we are committed to creating brave\, advocacy and solution-focused space together!\nConnect to the Winter/Spring 2021 Brooklyn BBC Meetings here\nThe Winter/Spring BBC Schedule is pictured below (we will meet via Zoom from 12 pm to 1:30 PM on the scheduled dates): \n \nYou can download a PDF of the Winter/Spring BBC Schedule\, along with a brief overview of the CCSI program and contact information here: CCSI BBC YAC January to June 2021 Schedule Flyer_FINAL \nYour Brooklyn BBC Co-Chairs are: Monique Lindsay\, Evelyn Pugh\, Selina Lebron
URL:https://www.ccsinyc.org/event/brooklyn-bbc-winter-spring-2021/2021-01-22/
CATEGORIES:BBC,CCSI
END:VEVENT
END:VCALENDAR