BEGIN:VCALENDAR
VERSION:2.0
PRODID:-//Coordinated Children’s Service Initiative - ECPv6.15.17//NONSGML v1.0//EN
CALSCALE:GREGORIAN
METHOD:PUBLISH
X-WR-CALNAME:Coordinated Children’s Service Initiative
X-ORIGINAL-URL:https://www.ccsinyc.org
X-WR-CALDESC:Events for Coordinated Children’s Service Initiative
REFRESH-INTERVAL;VALUE=DURATION:PT1H
X-Robots-Tag:noindex
X-PUBLISHED-TTL:PT1H
BEGIN:VTIMEZONE
TZID:America/New_York
BEGIN:DAYLIGHT
TZOFFSETFROM:-0500
TZOFFSETTO:-0400
TZNAME:EDT
DTSTART:20190310T070000
END:DAYLIGHT
BEGIN:STANDARD
TZOFFSETFROM:-0400
TZOFFSETTO:-0500
TZNAME:EST
DTSTART:20191103T060000
END:STANDARD
BEGIN:DAYLIGHT
TZOFFSETFROM:-0500
TZOFFSETTO:-0400
TZNAME:EDT
DTSTART:20200308T070000
END:DAYLIGHT
BEGIN:STANDARD
TZOFFSETFROM:-0400
TZOFFSETTO:-0500
TZNAME:EST
DTSTART:20201101T060000
END:STANDARD
BEGIN:DAYLIGHT
TZOFFSETFROM:-0500
TZOFFSETTO:-0400
TZNAME:EDT
DTSTART:20210314T070000
END:DAYLIGHT
BEGIN:STANDARD
TZOFFSETFROM:-0400
TZOFFSETTO:-0500
TZNAME:EST
DTSTART:20211107T060000
END:STANDARD
END:VTIMEZONE
BEGIN:VEVENT
DTSTART;TZID=America/New_York:20200515T140000
DTEND;TZID=America/New_York:20200515T150000
DTSTAMP:20260419T202939
CREATED:20200507T201341Z
LAST-MODIFIED:20200508T154852Z
UID:2423-1589551200-1589554800@www.ccsinyc.org
SUMMARY:Citywide Family Advocate Support Meeting
DESCRIPTION:The Coordinated Children’s Services Initiative with the support of the Department of Health and Mental Hygiene Bureau of Children\, Youth\, and Families\, and the participation of the NYC Regional Parent Advisors of Families Together NYS/OMH NYC Field Office\, is hosting a support and networking meeting for all Family Peer Advocates who work in New York City. \nFamily Peer Advocates have ‘lived-experience’ as the parent (biological\, foster\, adoptive) or primary caregiver of a child/youth with a social\, emotional\, behavioral\, mental health\, or developmental disability).  You don’t need to be credentialed or even hold the title as Family Peer Advocate to attend\, just that you identify as a Family Peer in your capacity as a human service professional or volunteer. \nIf you would like to join us for our virtual meeting please register at the link below.  After we confirm your identity you will receive the log-in information for the meeting. \n  \nThe agenda for the meeting is as follows: \nI. Introductions/How are you and your family doing? \nII. How are the families you work with doing? \nIII. What has been the impact of COVID-19 on your work? \n  \nYou are invited to a Zoom meeting.\nWhen: May 15\, 2020 02:00 PM Eastern Time (US and Canada) \nRegister in advance for this meeting:\nhttps://vibrant.zoom.us/meeting/register/tJcldumhqTMjGdaMFll2VUXs9R-C2UXthHYu \nAfter registering\, you will receive a confirmation email containing information about joining the meeting. \n  \n.
URL:https://www.ccsinyc.org/event/citywide-family-advocate-support-meeting/
CATEGORIES:CCSI
END:VEVENT
END:VCALENDAR