BEGIN:VCALENDAR
VERSION:2.0
PRODID:-//Coordinated Children’s Service Initiative - ECPv6.15.17//NONSGML v1.0//EN
CALSCALE:GREGORIAN
METHOD:PUBLISH
X-ORIGINAL-URL:https://www.ccsinyc.org
X-WR-CALDESC:Events for Coordinated Children’s Service Initiative
REFRESH-INTERVAL;VALUE=DURATION:PT1H
X-Robots-Tag:noindex
X-PUBLISHED-TTL:PT1H
BEGIN:VTIMEZONE
TZID:America/New_York
BEGIN:DAYLIGHT
TZOFFSETFROM:-0500
TZOFFSETTO:-0400
TZNAME:EDT
DTSTART:20190310T070000
END:DAYLIGHT
BEGIN:STANDARD
TZOFFSETFROM:-0400
TZOFFSETTO:-0500
TZNAME:EST
DTSTART:20191103T060000
END:STANDARD
BEGIN:DAYLIGHT
TZOFFSETFROM:-0500
TZOFFSETTO:-0400
TZNAME:EDT
DTSTART:20200308T070000
END:DAYLIGHT
BEGIN:STANDARD
TZOFFSETFROM:-0400
TZOFFSETTO:-0500
TZNAME:EST
DTSTART:20201101T060000
END:STANDARD
BEGIN:DAYLIGHT
TZOFFSETFROM:-0500
TZOFFSETTO:-0400
TZNAME:EDT
DTSTART:20210314T070000
END:DAYLIGHT
BEGIN:STANDARD
TZOFFSETFROM:-0400
TZOFFSETTO:-0500
TZNAME:EST
DTSTART:20211107T060000
END:STANDARD
END:VTIMEZONE
BEGIN:VEVENT
DTSTART;TZID=America/New_York:20200514T120000
DTEND;TZID=America/New_York:20200514T160000
DTSTAMP:20260420T012536
CREATED:20200505T193052Z
LAST-MODIFIED:20200514T160550Z
UID:2398-1589457600-1589472000@www.ccsinyc.org
SUMMARY:Bronx Children's Mental Health Virtual Fair
DESCRIPTION:Registration for this event is limited – please contact Yacary Rivera at YRivera@vnsny.org for more details. \nVideo stream of the event can be accessed here: \nhttps://www.youtube.com/watch?v=tk_Lw6u-zEU
URL:https://www.ccsinyc.org/event/bronx-childrens-mental-health-virtual-fair-2020-05-14/
CATEGORIES:CCSI
END:VEVENT
BEGIN:VEVENT
DTSTART;TZID=America/New_York:20200514T130000
DTEND;TZID=America/New_York:20200514T140000
DTSTAMP:20260420T012536
CREATED:20200512T143531Z
LAST-MODIFIED:20200512T143531Z
UID:2436-1589461200-1589464800@www.ccsinyc.org
SUMMARY:Staten Island BBC May Meeting 2020 Re-do
DESCRIPTION:Per COVID-19 City-wide mandates\, CCSI has canceled all in-person meetings & events through June 2020.\nCCSI BBC YAC May and June 2020 Schedule Flyer_FINAL \nThe Staten Island BBC will be meeting VIRTUALLY on Thursday May 14th\, 2020 from 1 to 2 pm as a “re-do” of our May 4th meeting that was unfortunately hacked.\nRegister for Zoom Meeting: \nhttps://vibrant.zoom.us/meeting/register/tJAlcOmhqjkvEtQFpiqbwjcLYMJz3oYCdR2c \n  \nStaten Island Borough Based Council Co-Chairs\nKit Allen\nFamily Co-Chair\, Family Advocate\nTaj Ellis\nAgency Co-Chair\, United Activities Unlimited\, Assistant Program Director\, Mariner’s Harbor Cornerstone\nVeronica Grant\nCommunity Co-Chair\, Advocate
URL:https://www.ccsinyc.org/event/staten-island-bbc-may-meeting-2020-re-do/
CATEGORIES:BBC
ATTACH;FMTTYPE=image/jpeg:https://www.ccsinyc.org/wp-content/uploads/2018/05/ccsi-photo-1200wide-group-of-diverse-youth-hands-joined-P257FGA.jpg
END:VEVENT
END:VCALENDAR